BEGIN:VCALENDAR
VERSION:2.0
PRODID:-//Drupal iCal API//EN
X-WR-CALNAME:Calendar of Events
X-WR-TIMEZONE:America/Chicago
BEGIN:VTIMEZONE
TZID:America/Chicago
X-LIC-LOCATION:America/Chicago
BEGIN:DAYLIGHT
TZNAME:CDT
TZOFFSETFROM:-0600
TZOFFSETTO:-0500
DTSTART:20260308T080000
END:DAYLIGHT
BEGIN:STANDARD
TZNAME:CST
TZOFFSETFROM:-0500
TZOFFSETTO:-0600
DTSTART:20251102T070000
END:STANDARD
END:VTIMEZONE
BEGIN:VEVENT
UID:4a185f4b-e57e-479f-ac6d-2cae2077363e
DTSTART;TZID=America/Chicago:20260424T160000
SEQUENCE:0
TRANSP:TRANSPARENT
DTEND;TZID=America/Chicago:20260424T200000
SUMMARY:4th Annual Mustang Mixer and Cornhole Tournament
CLASS:PUBLIC
DESCRIPTION:Body \n\n4th Annual Mustang Mixer and Cornhole Tournament\n\nMo
 re information coming soon\n\n 
DTSTAMP:20260422T180440Z
END:VEVENT
END:VCALENDAR