BEGIN:VCALENDAR
VERSION:2.0
PRODID:-//Drupal iCal API//EN
X-WR-CALNAME:Calendar of Events
X-WR-TIMEZONE:America/Chicago
BEGIN:VTIMEZONE
TZID:America/Chicago
X-LIC-LOCATION:America/Chicago
BEGIN:DAYLIGHT
TZNAME:CDT
TZOFFSETFROM:-0600
TZOFFSETTO:-0500
DTSTART:20260308T080000
END:DAYLIGHT
BEGIN:STANDARD
TZNAME:CST
TZOFFSETFROM:-0500
TZOFFSETTO:-0600
DTSTART:20251102T070000
END:STANDARD
END:VTIMEZONE
BEGIN:VEVENT
UID:08a597e3-3516-4cde-b66d-aaa0b6669d98
DTSTART;VALUE=DATE:20260425
SEQUENCE:0
TRANSP:TRANSPARENT
DTEND;VALUE=DATE:20260426
SUMMARY:Orchestra
CLASS:PUBLIC
DESCRIPTION:Body \n\nOrchestra\n\n \n\nApril 25th\n 8am-5pm\n Austin High 
 School\n MS Solo & Ensemble\n Chamber\, Concert selected students\n
X-MICROSOFT-CDO-ALLDAYEVENT:TRUE
DTSTAMP:20260422T145921Z
END:VEVENT
END:VCALENDAR